BEGIN:VCALENDAR
VERSION:2.0
PRODID:-//Group Effort Initiative - ECPv6.15.20//NONSGML v1.0//EN
CALSCALE:GREGORIAN
METHOD:PUBLISH
X-ORIGINAL-URL:https://groupeffortinitiative.com
X-WR-CALDESC:Events for Group Effort Initiative
REFRESH-INTERVAL;VALUE=DURATION:PT1H
X-Robots-Tag:noindex
X-PUBLISHED-TTL:PT1H
BEGIN:VTIMEZONE
TZID:America/Los_Angeles
BEGIN:DAYLIGHT
TZOFFSETFROM:-0800
TZOFFSETTO:-0700
TZNAME:PDT
DTSTART:20230312T100000
END:DAYLIGHT
BEGIN:STANDARD
TZOFFSETFROM:-0700
TZOFFSETTO:-0800
TZNAME:PST
DTSTART:20231105T090000
END:STANDARD
BEGIN:DAYLIGHT
TZOFFSETFROM:-0800
TZOFFSETTO:-0700
TZNAME:PDT
DTSTART:20240310T100000
END:DAYLIGHT
BEGIN:STANDARD
TZOFFSETFROM:-0700
TZOFFSETTO:-0800
TZNAME:PST
DTSTART:20241103T090000
END:STANDARD
BEGIN:DAYLIGHT
TZOFFSETFROM:-0800
TZOFFSETTO:-0700
TZNAME:PDT
DTSTART:20250309T100000
END:DAYLIGHT
BEGIN:STANDARD
TZOFFSETFROM:-0700
TZOFFSETTO:-0800
TZNAME:PST
DTSTART:20251102T090000
END:STANDARD
BEGIN:DAYLIGHT
TZOFFSETFROM:-0800
TZOFFSETTO:-0700
TZNAME:PDT
DTSTART:20260308T100000
END:DAYLIGHT
BEGIN:STANDARD
TZOFFSETFROM:-0700
TZOFFSETTO:-0800
TZNAME:PST
DTSTART:20261101T090000
END:STANDARD
END:VTIMEZONE
BEGIN:VEVENT
DTSTART;TZID=America/Los_Angeles:20250731T170000
DTEND;TZID=America/Los_Angeles:20250731T190000
DTSTAMP:20260422T062356
CREATED:20251028T162850Z
LAST-MODIFIED:20251028T162850Z
UID:1986-1753981200-1753988400@groupeffortinitiative.com
SUMMARY:Mentorship Mixer at Narrator (LA)
DESCRIPTION:This is our first mixer for all Mentors and Mentees who have participated in our Mentorship Program to date! This in-person event was a great opportunity to meet your fellow mentors & mentees\, reconnect with a previous mentor/mentee\, and connect with your current mentor/mentee.
URL:https://groupeffortinitiative.com/event/mentorship-mixer-at-narrator-la/
CATEGORIES:In-Person Event,MIxer
END:VEVENT
BEGIN:VEVENT
DTSTART;TZID=America/Los_Angeles:20250515T150000
DTEND;TZID=America/Los_Angeles:20250515T170000
DTSTAMP:20260422T062356
CREATED:20250507T230436Z
LAST-MODIFIED:20250507T230436Z
UID:1936-1747321200-1747328400@groupeffortinitiative.com
SUMMARY:NYC Mixer
DESCRIPTION:This mixer will bring together participants and industry professionals for an evening of networking.
URL:https://groupeffortinitiative.com/event/nyc-mixer/
CATEGORIES:In-Person Event,MIxer
END:VEVENT
BEGIN:VEVENT
DTSTART;TZID=America/Los_Angeles:20250308T080000
DTEND;TZID=America/Los_Angeles:20250308T170000
DTSTAMP:20260422T062356
CREATED:20250328T224712Z
LAST-MODIFIED:20250328T224712Z
UID:1919-1741420800-1741453200@groupeffortinitiative.com
SUMMARY:Group Effort's Inaugural Mid-Level Bootcamp
DESCRIPTION:Group Effort’s inaugural Mid Level Bootcamp was a daylong event for Group Effort participants with at least 3-5 years of entertainment work experience who are moving up the career ladder to mid-level roles. Attendees learned about personal branding\, competitive interview skills\, applying employer feedback\, and leadership etiquette to equip them for managerial and higher-level positions. The bootcamp also included a specialized software editing workshop and networking mixer with our industry partners!
URL:https://groupeffortinitiative.com/event/geis-inaugural-mid-level-bootcamp/
CATEGORIES:In-Person Event,MIxer,Professional Development Workshop
END:VEVENT
BEGIN:VEVENT
DTSTART;TZID=America/Los_Angeles:20250122T190000
DTEND;TZID=America/Los_Angeles:20250122T210000
DTSTAMP:20260422T062356
CREATED:20250328T223019Z
LAST-MODIFIED:20250328T223019Z
UID:1913-1737572400-1737579600@groupeffortinitiative.com
SUMMARY:LA Community Mixer
DESCRIPTION:Group Effort hosted a community mixer for all participants in the Los Angeles area. Participants met industry peers and joined us in celebrating our LA community. Group Effort also collected donations for those impacted by the LA fires
URL:https://groupeffortinitiative.com/event/la-community-mixer/
CATEGORIES:In-Person Event,MIxer
END:VEVENT
BEGIN:VEVENT
DTSTART;TZID=America/Los_Angeles:20241017T160000
DTEND;TZID=America/Los_Angeles:20241017T180000
DTSTAMP:20260422T062356
CREATED:20250328T221559Z
LAST-MODIFIED:20250328T221939Z
UID:1908-1729180800-1729188000@groupeffortinitiative.com
SUMMARY:Group Effort NYC Peer-to-Peer Networking Mixer
DESCRIPTION:Group Effort hosted a networking mixer for all participants in the NYC and New Jersey area! This was a great opportunity to connect with peers in the entertainment industry – participants joined us for some light bites and drinks as they got to know their fellow participants.
URL:https://groupeffortinitiative.com/event/gei-nyc-peer-to-peer-networking-mixer/
CATEGORIES:In-Person Event,MIxer
END:VEVENT
END:VCALENDAR